BEGIN:VCALENDAR
VERSION:2.0
PRODID:-//CENTRAL CALIFORNIA COAST GARDEN RAILROAD SOCIETY - ECPv6.15.20//NONSGML v1.0//EN
CALSCALE:GREGORIAN
METHOD:PUBLISH
X-ORIGINAL-URL:https://cccgrs.org
X-WR-CALDESC:Events for CENTRAL CALIFORNIA COAST GARDEN RAILROAD SOCIETY
REFRESH-INTERVAL;VALUE=DURATION:PT1H
X-Robots-Tag:noindex
X-PUBLISHED-TTL:PT1H
BEGIN:VTIMEZONE
TZID:America/Los_Angeles
BEGIN:DAYLIGHT
TZOFFSETFROM:-0800
TZOFFSETTO:-0700
TZNAME:PDT
DTSTART:20250309T100000
END:DAYLIGHT
BEGIN:STANDARD
TZOFFSETFROM:-0700
TZOFFSETTO:-0800
TZNAME:PST
DTSTART:20251102T090000
END:STANDARD
BEGIN:DAYLIGHT
TZOFFSETFROM:-0800
TZOFFSETTO:-0700
TZNAME:PDT
DTSTART:20260308T100000
END:DAYLIGHT
BEGIN:STANDARD
TZOFFSETFROM:-0700
TZOFFSETTO:-0800
TZNAME:PST
DTSTART:20261101T090000
END:STANDARD
BEGIN:DAYLIGHT
TZOFFSETFROM:-0800
TZOFFSETTO:-0700
TZNAME:PDT
DTSTART:20270314T100000
END:DAYLIGHT
BEGIN:STANDARD
TZOFFSETFROM:-0700
TZOFFSETTO:-0800
TZNAME:PST
DTSTART:20271107T090000
END:STANDARD
END:VTIMEZONE
BEGIN:VEVENT
DTSTART;TZID=America/Los_Angeles:20260304T113000
DTEND;TZID=America/Los_Angeles:20260304T133000
DTSTAMP:20260421T150412
CREATED:20260203T173921Z
LAST-MODIFIED:20260203T173921Z
UID:5278-1772623800-1772631000@cccgrs.org
SUMMARY:March Luncheon
DESCRIPTION:The Central California Coast Garden Railroad Society members and friends meet monthly to socialize and share a good meal with friends and colleagues. Attendees connect with local hobbyists\, learn information important for the success of your garden railroad\, and discover new opportunities\, while supporting local small businesses. \nGuests are always welcome. Please let us know in advance if you plan to attend. We would like to include you in the reservation we provide to our hosts so they can prepare accordingly for our visit. \nContact us at contact@cccgrs.org for more details about this month’s CCCGRS luncheon.
URL:https://cccgrs.org/calendar/luncheon-mar-2026/
LOCATION:The 19th Hole Restaurant\, 201 State Park Rd\, Morro Bay\, CA\, 93422\, United States
CATEGORIES:Luncheon,Public Event
ATTACH;FMTTYPE=image/jpeg:https://cccgrs.org/wp-content/uploads/2022/12/Santa-Fe_China_Pattern-icon.jpg
ORGANIZER;CN="Central California Coast Garden Railroad Society (CCCGRS)":MAILTO:contact@cccgrs.org
END:VEVENT
BEGIN:VEVENT
DTSTART;TZID=America/Los_Angeles:20260307T100000
DTEND;TZID=America/Los_Angeles:20260307T170000
DTSTAMP:20260421T150412
CREATED:20260219T042530Z
LAST-MODIFIED:20260219T042847Z
UID:5389-1772877600-1772902800@cccgrs.org
SUMMARY:Bakersfield Model Train Show
DESCRIPTION:Event details may be found at https://gehams.club/
URL:https://cccgrs.org/calendar/show-mar-2026-2/
LOCATION:Kern County Fairgrounds\, 1142 South P Street\, Bakersfield\, CA\, 93307\, United States
CATEGORIES:Public Event,Related Event
END:VEVENT
BEGIN:VEVENT
DTSTART;TZID=America/Los_Angeles:20260308T080000
DTEND;TZID=America/Los_Angeles:20260308T160000
DTSTAMP:20260421T150412
CREATED:20260219T042431Z
LAST-MODIFIED:20260219T042747Z
UID:5391-1772956800-1772985600@cccgrs.org
SUMMARY:Bakersfield Model Train Show
DESCRIPTION:Event details may be found at https://gehams.club/
URL:https://cccgrs.org/calendar/show-mar-2026-1/
LOCATION:CA
CATEGORIES:Public Event,Related Event
END:VEVENT
END:VCALENDAR