BEGIN:VCALENDAR
VERSION:2.0
PRODID:-//CENTRAL CALIFORNIA COAST GARDEN RAILROAD SOCIETY - ECPv6.15.20//NONSGML v1.0//EN
CALSCALE:GREGORIAN
METHOD:PUBLISH
X-ORIGINAL-URL:https://cccgrs.org
X-WR-CALDESC:Events for CENTRAL CALIFORNIA COAST GARDEN RAILROAD SOCIETY
REFRESH-INTERVAL;VALUE=DURATION:PT1H
X-Robots-Tag:noindex
X-PUBLISHED-TTL:PT1H
BEGIN:VTIMEZONE
TZID:America/Los_Angeles
BEGIN:DAYLIGHT
TZOFFSETFROM:-0800
TZOFFSETTO:-0700
TZNAME:PDT
DTSTART:20200308T100000
END:DAYLIGHT
BEGIN:STANDARD
TZOFFSETFROM:-0700
TZOFFSETTO:-0800
TZNAME:PST
DTSTART:20201101T090000
END:STANDARD
BEGIN:DAYLIGHT
TZOFFSETFROM:-0800
TZOFFSETTO:-0700
TZNAME:PDT
DTSTART:20210314T100000
END:DAYLIGHT
BEGIN:STANDARD
TZOFFSETFROM:-0700
TZOFFSETTO:-0800
TZNAME:PST
DTSTART:20211107T090000
END:STANDARD
BEGIN:DAYLIGHT
TZOFFSETFROM:-0800
TZOFFSETTO:-0700
TZNAME:PDT
DTSTART:20220313T100000
END:DAYLIGHT
BEGIN:STANDARD
TZOFFSETFROM:-0700
TZOFFSETTO:-0800
TZNAME:PST
DTSTART:20221106T090000
END:STANDARD
END:VTIMEZONE
BEGIN:VEVENT
DTSTART;TZID=America/Los_Angeles:20210112T190000
DTEND;TZID=America/Los_Angeles:20210112T200000
DTSTAMP:20260422T041354
CREATED:20210103T224108Z
LAST-MODIFIED:20210103T224108Z
UID:2162-1610478000-1610481600@cccgrs.org
SUMMARY:Workshop: ImageJ Image Processing Software for Modelers—Introduction
DESCRIPTION:Workshop: ImageJ Image Processing Software for Modelers—Introduction \nIn the absence of blueprints\, plans or technical drawings\, modelers often turn to images of their subjects to precisely construct unique replicas to populate their garden railroad landscapes. ImageJ is a Java-based\, open source image processing program which supports many functions useful to scratch builder’s including the measurement of distances and angles. Participants in our two-part online workshop series will learn how to set-up and use the basic features of this application. \nContact us for the Zoom Meeting ID to join this event. \n 
URL:https://cccgrs.org/calendar/workshop-imagej-jan-2021/
LOCATION:Zoom Video Communications
CATEGORIES:Special Event,Workshop
ORGANIZER;CN="Central California Coast Garden Railroad Society (CCCGRS)":MAILTO:contact@cccgrs.org
END:VEVENT
END:VCALENDAR