BEGIN:VCALENDAR
VERSION:2.0
PRODID:-//CENTRAL CALIFORNIA COAST GARDEN RAILROAD SOCIETY - ECPv6.15.20//NONSGML v1.0//EN
CALSCALE:GREGORIAN
METHOD:PUBLISH
X-ORIGINAL-URL:https://cccgrs.org
X-WR-CALDESC:Events for CENTRAL CALIFORNIA COAST GARDEN RAILROAD SOCIETY
REFRESH-INTERVAL;VALUE=DURATION:PT1H
X-Robots-Tag:noindex
X-PUBLISHED-TTL:PT1H
BEGIN:VTIMEZONE
TZID:America/Los_Angeles
BEGIN:DAYLIGHT
TZOFFSETFROM:-0800
TZOFFSETTO:-0700
TZNAME:PDT
DTSTART:20240310T100000
END:DAYLIGHT
BEGIN:STANDARD
TZOFFSETFROM:-0700
TZOFFSETTO:-0800
TZNAME:PST
DTSTART:20241103T090000
END:STANDARD
BEGIN:DAYLIGHT
TZOFFSETFROM:-0800
TZOFFSETTO:-0700
TZNAME:PDT
DTSTART:20250309T100000
END:DAYLIGHT
BEGIN:STANDARD
TZOFFSETFROM:-0700
TZOFFSETTO:-0800
TZNAME:PST
DTSTART:20251102T090000
END:STANDARD
BEGIN:DAYLIGHT
TZOFFSETFROM:-0800
TZOFFSETTO:-0700
TZNAME:PDT
DTSTART:20260308T100000
END:DAYLIGHT
BEGIN:STANDARD
TZOFFSETFROM:-0700
TZOFFSETTO:-0800
TZNAME:PST
DTSTART:20261101T090000
END:STANDARD
END:VTIMEZONE
BEGIN:VEVENT
DTSTART;TZID=America/Los_Angeles:20251005T100000
DTEND;TZID=America/Los_Angeles:20251005T160000
DTSTAMP:20260422T031721
CREATED:20250830T183857Z
LAST-MODIFIED:20250830T190843Z
UID:5198-1759658400-1759680000@cccgrs.org
SUMMARY:A & M Railroad Open Day
DESCRIPTION:In conjunction with the 2025 Central Coast Railroad Festival\, the A & M Railroad will host an open day for enjoyment of the general public. \nThe A & M Railroad consists of two separate large-scale layouts. The original layout has been reconfigured into an 80-ft. oval featured in the center of the garden. In 2021\, following 16 months of construction\, the new 193-ft. triple main line was completed. This impressive layout is raised 30 inches from ground level for ease of operation and viewing. All three lines cross an arch top drawbridge allowing operators to access the center of the layout. Kit and kit-bashed structures\, details and figures are distributed throughout creating unique scenes to delight visitors. \nNot open to the public since 2023\, the A & M Railroad is a must see on your garden railroad tour in northern Santa Barbara County!
URL:https://cccgrs.org/calendar/ccrrf-2025-amrr/
LOCATION:A & M Railroad\, 4969 Coughlin Way\, Santa Maria\, CA\, 93455-5035\, United States
CATEGORIES:Open Day,Public Event,Special Event
ATTACH;FMTTYPE=image/jpeg:https://cccgrs.org/wp-content/uploads/2023/12/PXL_20230819_211019023-scaled.jpg
END:VEVENT
END:VCALENDAR