BEGIN:VCALENDAR
VERSION:2.0
PRODID:-//CENTRAL CALIFORNIA COAST GARDEN RAILROAD SOCIETY - ECPv6.15.20//NONSGML v1.0//EN
CALSCALE:GREGORIAN
METHOD:PUBLISH
X-ORIGINAL-URL:https://cccgrs.org
X-WR-CALDESC:Events for CENTRAL CALIFORNIA COAST GARDEN RAILROAD SOCIETY
REFRESH-INTERVAL;VALUE=DURATION:PT1H
X-Robots-Tag:noindex
X-PUBLISHED-TTL:PT1H
BEGIN:VTIMEZONE
TZID:America/Los_Angeles
BEGIN:DAYLIGHT
TZOFFSETFROM:-0800
TZOFFSETTO:-0700
TZNAME:PDT
DTSTART:20230312T100000
END:DAYLIGHT
BEGIN:STANDARD
TZOFFSETFROM:-0700
TZOFFSETTO:-0800
TZNAME:PST
DTSTART:20231105T090000
END:STANDARD
BEGIN:DAYLIGHT
TZOFFSETFROM:-0800
TZOFFSETTO:-0700
TZNAME:PDT
DTSTART:20240310T100000
END:DAYLIGHT
BEGIN:STANDARD
TZOFFSETFROM:-0700
TZOFFSETTO:-0800
TZNAME:PST
DTSTART:20241103T090000
END:STANDARD
BEGIN:DAYLIGHT
TZOFFSETFROM:-0800
TZOFFSETTO:-0700
TZNAME:PDT
DTSTART:20250309T100000
END:DAYLIGHT
BEGIN:STANDARD
TZOFFSETFROM:-0700
TZOFFSETTO:-0800
TZNAME:PST
DTSTART:20251102T090000
END:STANDARD
END:VTIMEZONE
BEGIN:VEVENT
DTSTART;TZID=America/Los_Angeles:20241106T113000
DTEND;TZID=America/Los_Angeles:20241106T133000
DTSTAMP:20260422T201942
CREATED:20231220T001929Z
LAST-MODIFIED:20241102T230156Z
UID:4285-1730892600-1730899800@cccgrs.org
SUMMARY:November Luncheon
DESCRIPTION:The Central California Coast Garden Railroad Society members and friends meet monthly to socialize and share a good meal with friends and colleagues. Attendees connect with local hobbyists\, learn information important for the success of your garden railroad\, and discover new opportunities\, while supporting local small businesses. \nGuests are always welcome\, but please let us know in advance if you plan to attend. We would like to include you in reservation we provide to the restaurant prior to our visit. \nContact us at contact@cccgrs.org for more details about this month’s CCCGRS luncheon.
URL:https://cccgrs.org/calendar/luncheon-nov-2024/
LOCATION:Rooster Creek Tavern\, 200 East Branch Street\, Arroyo Grande\, CA\, 93420\, United States
CATEGORIES:Public Event
ATTACH;FMTTYPE=image/jpeg:https://cccgrs.org/wp-content/uploads/2022/12/Santa-Fe_China_Pattern-icon.jpg
ORGANIZER;CN="Central California Coast Garden Railroad Society (CCCGRS)":MAILTO:contact@cccgrs.org
END:VEVENT
END:VCALENDAR