BEGIN:VCALENDAR
VERSION:2.0
PRODID:-//CENTRAL CALIFORNIA COAST GARDEN RAILROAD SOCIETY - ECPv6.15.20//NONSGML v1.0//EN
CALSCALE:GREGORIAN
METHOD:PUBLISH
X-ORIGINAL-URL:https://cccgrs.org
X-WR-CALDESC:Events for CENTRAL CALIFORNIA COAST GARDEN RAILROAD SOCIETY
REFRESH-INTERVAL;VALUE=DURATION:PT1H
X-Robots-Tag:noindex
X-PUBLISHED-TTL:PT1H
BEGIN:VTIMEZONE
TZID:America/Los_Angeles
BEGIN:DAYLIGHT
TZOFFSETFROM:-0800
TZOFFSETTO:-0700
TZNAME:PDT
DTSTART:20220313T100000
END:DAYLIGHT
BEGIN:STANDARD
TZOFFSETFROM:-0700
TZOFFSETTO:-0800
TZNAME:PST
DTSTART:20221106T090000
END:STANDARD
BEGIN:DAYLIGHT
TZOFFSETFROM:-0800
TZOFFSETTO:-0700
TZNAME:PDT
DTSTART:20230312T100000
END:DAYLIGHT
BEGIN:STANDARD
TZOFFSETFROM:-0700
TZOFFSETTO:-0800
TZNAME:PST
DTSTART:20231105T090000
END:STANDARD
BEGIN:DAYLIGHT
TZOFFSETFROM:-0800
TZOFFSETTO:-0700
TZNAME:PDT
DTSTART:20240310T100000
END:DAYLIGHT
BEGIN:STANDARD
TZOFFSETFROM:-0700
TZOFFSETTO:-0800
TZNAME:PST
DTSTART:20241103T090000
END:STANDARD
END:VTIMEZONE
BEGIN:VEVENT
DTSTART;TZID=America/Los_Angeles:20230711T100000
DTEND;TZID=America/Los_Angeles:20230711T160000
DTSTAMP:20260423T214842
CREATED:20230615T034024Z
LAST-MODIFIED:20230616T134302Z
UID:3880-1689069600-1689091200@cccgrs.org
SUMMARY:109. Orcutt & Islay Railroad
DESCRIPTION:The Orcutt & Islay Creek Railroad in Santa Maria\, California is one of the longest\, continuous operating garden railroads on the central coast. This “could have happened” railroad is modeled in the spirit of the Pacific Coast Railway\, a 3-ft. narrow gauge railway that connected Port Hartford to Los Olivos via San Luis Obispo and other communities. The railroad is designed specifically to accommodate the unique needs of live steam locomotives and their consists. Thoughtful planning and construction allow easy roadbed and track maintenance\, and continuous accessibility to rolling stock in motion. Kit and kit-bashed structures are gradually being replaced with scratch-built features\, many of which include lighting and other effects.
URL:https://cccgrs.org/calendar/ngrc-109-11-jul/
LOCATION:Orcutt & Islay Creek Railroad\, 246 Eastbourne Terrace\, Santa Maria\, CA\, 93455-3622\, United States
CATEGORIES:Open Day,Public Event,Special Event
ATTACH;FMTTYPE=image/jpeg:https://cccgrs.org/wp-content/uploads/2023/06/NGRC_Clinton_Image-2-copy.jpg
END:VEVENT
END:VCALENDAR