BEGIN:VCALENDAR
VERSION:2.0
PRODID:-//CENTRAL CALIFORNIA COAST GARDEN RAILROAD SOCIETY - ECPv6.15.20//NONSGML v1.0//EN
CALSCALE:GREGORIAN
METHOD:PUBLISH
X-ORIGINAL-URL:https://cccgrs.org
X-WR-CALDESC:Events for CENTRAL CALIFORNIA COAST GARDEN RAILROAD SOCIETY
REFRESH-INTERVAL;VALUE=DURATION:PT1H
X-Robots-Tag:noindex
X-PUBLISHED-TTL:PT1H
BEGIN:VTIMEZONE
TZID:America/Los_Angeles
BEGIN:DAYLIGHT
TZOFFSETFROM:-0800
TZOFFSETTO:-0700
TZNAME:PDT
DTSTART:20220313T100000
END:DAYLIGHT
BEGIN:STANDARD
TZOFFSETFROM:-0700
TZOFFSETTO:-0800
TZNAME:PST
DTSTART:20221106T090000
END:STANDARD
BEGIN:DAYLIGHT
TZOFFSETFROM:-0800
TZOFFSETTO:-0700
TZNAME:PDT
DTSTART:20230312T100000
END:DAYLIGHT
BEGIN:STANDARD
TZOFFSETFROM:-0700
TZOFFSETTO:-0800
TZNAME:PST
DTSTART:20231105T090000
END:STANDARD
BEGIN:DAYLIGHT
TZOFFSETFROM:-0800
TZOFFSETTO:-0700
TZNAME:PDT
DTSTART:20240310T100000
END:DAYLIGHT
BEGIN:STANDARD
TZOFFSETFROM:-0700
TZOFFSETTO:-0800
TZNAME:PST
DTSTART:20241103T090000
END:STANDARD
END:VTIMEZONE
BEGIN:VEVENT
DTSTART;TZID=America/Los_Angeles:20230624T093000
DTEND;TZID=America/Los_Angeles:20230624T150000
DTSTAMP:20260419T105053
CREATED:20220517T004348Z
LAST-MODIFIED:20230616T133748Z
UID:3005-1687599000-1687618800@cccgrs.org
SUMMARY:Western Pacific Railroad Train Run
DESCRIPTION:Join the Central California Coast Garden Railroad Society for our first train run at the Western Pacific Railroad. Richard and JoAnn Abraham welcome members to bring their DC track powered and battery powered trains to traverse the over 325-foot layout. They are anxious to see you enjoying your trains on the Western Pacific Railroad! \nOur hosts will be serving pizza\, plenty of drinks and dessert to sweeten your visit. \nThe Western Pacific Railroad has been a presence among southern California garden railroads for decades. The Abrahams are excited to share their Santa Ynez garden railroad with a new group of train enthusiasts and we appreciate the generous invitation!  \n 
URL:https://cccgrs.org/calendar/wprr-train-run-jul-2022/
LOCATION:Western Pacific Railroad\, 3176 Horizon Drive\, Santa Ynez\, CA\, 93460\, United States
CATEGORIES:Train Run
ATTACH;FMTTYPE=image/jpeg:https://cccgrs.org/wp-content/uploads/2023/06/NGRC_Abraham_Image-1-copy.jpg
ORGANIZER;CN="Richard and JoAnn Abraham":MAILTO:ctre6321@comcast.net
END:VEVENT
END:VCALENDAR